Package: DNABarcodes Version: 1.37.0 Command: chmod a+r DNABarcodes -R && E:\biocbuild\bbs-3.21-bioc\R\bin\R.exe CMD build --keep-empty-dirs --no-resave-data DNABarcodes StartedAt: 2025-02-20 18:27:55 -0500 (Thu, 20 Feb 2025) EndedAt: 2025-02-20 18:29:48 -0500 (Thu, 20 Feb 2025) EllapsedTime: 113.1 seconds RetCode: 0 Status: OK PackageFile: DNABarcodes_1.37.0.tar.gz PackageFileSize: 348 KiB