Package: DNABarcodes Version: 1.37.0 Command: /home/biocbuild/bbs-3.21-bioc/R/bin/R CMD INSTALL DNABarcodes StartedAt: 2025-02-20 15:07:14 -0500 (Thu, 20 Feb 2025) EndedAt: 2025-02-20 15:08:19 -0500 (Thu, 20 Feb 2025) EllapsedTime: 65.3 seconds RetCode: 0 Status: OK