Package: DNABarcodes Version: 1.37.0 Command: /Library/Frameworks/R.framework/Resources/bin/R CMD build --keep-empty-dirs --no-resave-data DNABarcodes StartedAt: 2025-02-20 16:32:29 -0500 (Thu, 20 Feb 2025) EndedAt: 2025-02-20 16:33:53 -0500 (Thu, 20 Feb 2025) EllapsedTime: 83.4 seconds RetCode: 0 Status: OK PackageFile: DNABarcodes_1.37.0.tar.gz PackageFileSize: 347.8 KiB