Package: DNABarcodes Version: 1.37.0 Command: rm -rf DNABarcodes.buildbin-libdir && mkdir DNABarcodes.buildbin-libdir && /Users/biocbuild/BBS/utils/build-universal.sh DNABarcodes_1.37.0.tar.gz /Library/Frameworks/R.framework/Resources/bin/R DNABarcodes.buildbin-libdir StartedAt: 2025-02-21 00:28:28 -0500 (Fri, 21 Feb 2025) EndedAt: 2025-02-21 00:29:45 -0500 (Fri, 21 Feb 2025) EllapsedTime: 76.4 seconds RetCode: 0 Status: OK PackageFile: DNABarcodes_1.37.0.tgz PackageFileSize: 485.6 KiB