Package: DNABarcodes Version: 1.37.0 Command: /Library/Frameworks/R.framework/Resources/bin/R CMD INSTALL DNABarcodes StartedAt: 2025-02-20 15:19:23 -0500 (Thu, 20 Feb 2025) EndedAt: 2025-02-20 15:19:42 -0500 (Thu, 20 Feb 2025) EllapsedTime: 18.9 seconds RetCode: 0 Status: OK