Package: DNABarcodeCompatibility Version: 1.23.0 Command: E:\biocbuild\bbs-3.21-bioc\R\bin\R.exe CMD INSTALL DNABarcodeCompatibility StartedAt: 2025-02-21 17:40:15 -0500 (Fri, 21 Feb 2025) EndedAt: 2025-02-21 17:42:45 -0500 (Fri, 21 Feb 2025) EllapsedTime: 149.1 seconds RetCode: 0 Status: OK