Package: DNABarcodeCompatibility Version: 1.23.0 Command: chmod a+r DNABarcodeCompatibility -R && E:\biocbuild\bbs-3.21-bioc\R\bin\R.exe CMD build --keep-empty-dirs --no-resave-data DNABarcodeCompatibility StartedAt: 2025-02-21 19:06:37 -0500 (Fri, 21 Feb 2025) EndedAt: 2025-02-21 19:08:31 -0500 (Fri, 21 Feb 2025) EllapsedTime: 113.9 seconds RetCode: 0 Status: OK PackageFile: DNABarcodeCompatibility_1.23.0.tar.gz PackageFileSize: 260.5 KiB