Package: DNABarcodeCompatibility Version: 1.23.0 Command: rm -rf DNABarcodeCompatibility.buildbin-libdir && mkdir DNABarcodeCompatibility.buildbin-libdir && E:\biocbuild\bbs-3.21-bioc\R\bin\R.exe CMD INSTALL --build --library=DNABarcodeCompatibility.buildbin-libdir DNABarcodeCompatibility_1.23.0.tar.gz StartedAt: 2025-02-21 07:59:35 -0500 (Fri, 21 Feb 2025) EndedAt: 2025-02-21 08:05:00 -0500 (Fri, 21 Feb 2025) EllapsedTime: 325.2 seconds RetCode: 0 Status: OK PackageFile: DNABarcodeCompatibility_1.23.0.zip PackageFileSize: 703.7 KiB