Package: DNABarcodeCompatibility Version: 1.23.0 Command: /home/biocbuild/bbs-3.21-bioc/R/bin/R CMD INSTALL DNABarcodeCompatibility StartedAt: 2025-02-20 15:16:18 -0500 (Thu, 20 Feb 2025) EndedAt: 2025-02-20 15:16:49 -0500 (Thu, 20 Feb 2025) EllapsedTime: 30.4 seconds RetCode: 0 Status: OK