Package: DNABarcodeCompatibility Version: 1.23.0 Command: /Library/Frameworks/R.framework/Resources/bin/R CMD build --keep-empty-dirs --no-resave-data DNABarcodeCompatibility StartedAt: 2025-02-20 16:11:21 -0500 (Thu, 20 Feb 2025) EndedAt: 2025-02-20 16:11:42 -0500 (Thu, 20 Feb 2025) EllapsedTime: 21.2 seconds RetCode: 0 Status: OK PackageFile: DNABarcodeCompatibility_1.23.0.tar.gz PackageFileSize: 260.4 KiB