Package: DMRcate Version: 3.3.1 Command: E:\biocbuild\bbs-3.21-bioc\R\bin\R.exe CMD check --no-multiarch --install=check:DMRcate.install-out.txt --library=E:\biocbuild\bbs-3.21-bioc\R\library --no-vignettes --timings DMRcate_3.3.1.tar.gz StartedAt: 2025-02-15 00:39:38 -0500 (Sat, 15 Feb 2025) EndedAt: 2025-02-15 01:13:10 -0500 (Sat, 15 Feb 2025) EllapsedTime: 2012.1 seconds RetCode: 0 Status: OK CheckDir: DMRcate.Rcheck Warnings: 0