Package: DMRcate Version: 3.3.1 Command: /home/biocbuild/bbs-3.21-bioc/R/bin/R CMD build --keep-empty-dirs --no-resave-data DMRcate StartedAt: 2025-02-17 17:00:40 -0500 (Mon, 17 Feb 2025) EndedAt: 2025-02-17 17:13:45 -0500 (Mon, 17 Feb 2025) EllapsedTime: 784.6 seconds RetCode: 1 Status: ERROR PackageFile: None PackageFileSize: NA