Package: DMRcate Version: 3.3.1 Command: /Library/Frameworks/R.framework/Resources/bin/R CMD build --keep-empty-dirs --no-resave-data DMRcate StartedAt: 2025-02-17 16:31:36 -0500 (Mon, 17 Feb 2025) EndedAt: 2025-02-17 16:45:41 -0500 (Mon, 17 Feb 2025) EllapsedTime: 845.1 seconds RetCode: 1 Status: ERROR PackageFile: None PackageFileSize: NA