Package: DMRcate Version: 3.3.1 Command: rm -rf DMRcate.buildbin-libdir && mkdir DMRcate.buildbin-libdir && /Users/biocbuild/BBS/utils/build-universal.sh DMRcate_3.3.1.tar.gz /Library/Frameworks/R.framework/Resources/bin/R DMRcate.buildbin-libdir StartedAt: 2025-02-14 00:26:44 -0500 (Fri, 14 Feb 2025) EndedAt: 2025-02-14 00:28:12 -0500 (Fri, 14 Feb 2025) EllapsedTime: 87.8 seconds RetCode: 0 Status: OK PackageFile: DMRcate_3.3.1.tgz PackageFileSize: 1.159 MiB