Package: DMRcate Version: 3.3.1 Command: /home/biocbuild/R/R/bin/R CMD check --install=check:DMRcate.install-out.txt --library=/home/biocbuild/R/R/site-library --no-vignettes --timings DMRcate_3.3.1.tar.gz StartedAt: 2025-01-28 10:03:33 -0000 (Tue, 28 Jan 2025) EndedAt: 2025-01-28 10:27:43 -0000 (Tue, 28 Jan 2025) EllapsedTime: 1449.6 seconds RetCode: 1 Status: ERROR CheckDir: DMRcate.Rcheck Warnings: NA