Package: DMRcate Version: 3.3.1 Command: /Library/Frameworks/R.framework/Resources/bin/R CMD INSTALL DMRcate StartedAt: 2025-02-17 15:30:21 -0500 (Mon, 17 Feb 2025) EndedAt: 2025-02-17 15:30:42 -0500 (Mon, 17 Feb 2025) EllapsedTime: 20.5 seconds RetCode: 0 Status: OK