Package: DMRcaller Version: 1.39.0 Command: /home/biocbuild/bbs-3.21-bioc/R/bin/R CMD check --install=check:DMRcaller.install-out.txt --library=/home/biocbuild/bbs-3.21-bioc/R/site-library --timings DMRcaller_1.39.0.tar.gz StartedAt: 2025-02-19 21:45:52 -0500 (Wed, 19 Feb 2025) EndedAt: 2025-02-19 21:51:04 -0500 (Wed, 19 Feb 2025) EllapsedTime: 312.3 seconds RetCode: 0 Status: OK CheckDir: DMRcaller.Rcheck Warnings: 0