Package: DMRcaller Version: 1.39.0 Command: rm -rf DMRcaller.buildbin-libdir && mkdir DMRcaller.buildbin-libdir && /Users/biocbuild/BBS/utils/build-universal.sh DMRcaller_1.39.0.tar.gz /Library/Frameworks/R.framework/Resources/bin/R DMRcaller.buildbin-libdir StartedAt: 2025-02-19 00:22:39 -0500 (Wed, 19 Feb 2025) EndedAt: 2025-02-19 00:23:00 -0500 (Wed, 19 Feb 2025) EllapsedTime: 20.7 seconds RetCode: 0 Status: OK PackageFile: DMRcaller_1.39.0.tgz PackageFileSize: 1.847 MiB