Package: DMRcaller Version: 1.39.0 Command: /home/biocbuild/R/R/bin/R CMD build --keep-empty-dirs --no-resave-data DMRcaller StartedAt: 2025-01-28 22:31:23 -0000 (Tue, 28 Jan 2025) EndedAt: 2025-01-28 22:33:08 -0000 (Tue, 28 Jan 2025) EllapsedTime: 105.0 seconds RetCode: 0 Status: OK PackageFile: DMRcaller_1.39.0.tar.gz PackageFileSize: 1.733 MiB