Package: DMRcaller Version: 1.39.0 Command: /Library/Frameworks/R.framework/Resources/bin/R CMD INSTALL DMRcaller StartedAt: 2025-02-19 15:04:13 -0500 (Wed, 19 Feb 2025) EndedAt: 2025-02-19 15:04:19 -0500 (Wed, 19 Feb 2025) EllapsedTime: 5.7 seconds RetCode: 0 Status: OK