Package: DMRScan Version: 1.29.0 Command: /home/biocbuild/bbs-3.21-bioc/R/bin/R CMD check --install=check:DMRScan.install-out.txt --library=/home/biocbuild/bbs-3.21-bioc/R/site-library --timings DMRScan_1.29.0.tar.gz StartedAt: 2025-02-19 21:46:49 -0500 (Wed, 19 Feb 2025) EndedAt: 2025-02-19 21:53:24 -0500 (Wed, 19 Feb 2025) EllapsedTime: 395.5 seconds RetCode: 0 Status: OK CheckDir: DMRScan.Rcheck Warnings: 0