Package: DMRScan Version: 1.29.0 Command: /Library/Frameworks/R.framework/Resources/bin/R CMD build --keep-empty-dirs --no-resave-data DMRScan StartedAt: 2025-02-20 16:32:22 -0500 (Thu, 20 Feb 2025) EndedAt: 2025-02-20 16:34:01 -0500 (Thu, 20 Feb 2025) EllapsedTime: 98.3 seconds RetCode: 0 Status: OK PackageFile: DMRScan_1.29.0.tar.gz PackageFileSize: 3.347 MiB