Package: DMCHMM Version: 1.29.0 Command: E:\biocbuild\bbs-3.21-bioc\R\bin\R.exe CMD check --no-multiarch --install=check:DMCHMM.install-out.txt --library=E:\biocbuild\bbs-3.21-bioc\R\library --no-vignettes --timings DMCHMM_1.29.0.tar.gz StartedAt: 2025-02-21 00:46:54 -0500 (Fri, 21 Feb 2025) EndedAt: 2025-02-21 00:56:37 -0500 (Fri, 21 Feb 2025) EllapsedTime: 583.1 seconds RetCode: 0 Status: WARNINGS CheckDir: DMCHMM.Rcheck Warnings: 1