Package: DMCHMM Version: 1.29.0 Command: chmod a+r DMCHMM -R && E:\biocbuild\bbs-3.21-bioc\R\bin\R.exe CMD build --keep-empty-dirs --no-resave-data DMCHMM StartedAt: 2025-02-20 18:27:19 -0500 (Thu, 20 Feb 2025) EndedAt: 2025-02-20 18:29:47 -0500 (Thu, 20 Feb 2025) EllapsedTime: 148.4 seconds RetCode: 0 Status: OK PackageFile: DMCHMM_1.29.0.tar.gz PackageFileSize: 744 KiB