Package: DMCHMM Version: 1.29.0 Command: rm -rf DMCHMM.buildbin-libdir && mkdir DMCHMM.buildbin-libdir && E:\biocbuild\bbs-3.21-bioc\R\bin\R.exe CMD INSTALL --build --library=DMCHMM.buildbin-libdir DMCHMM_1.29.0.tar.gz StartedAt: 2025-02-21 07:59:22 -0500 (Fri, 21 Feb 2025) EndedAt: 2025-02-21 08:00:15 -0500 (Fri, 21 Feb 2025) EllapsedTime: 53.4 seconds RetCode: 0 Status: OK PackageFile: DMCHMM_1.29.0.zip PackageFileSize: 954.8 KiB