Package: DMCHMM Version: 1.29.0 Command: /home/biocbuild/bbs-3.21-bioc/R/bin/R CMD INSTALL DMCHMM StartedAt: 2025-02-20 15:36:53 -0500 (Thu, 20 Feb 2025) EndedAt: 2025-02-20 15:37:26 -0500 (Thu, 20 Feb 2025) EllapsedTime: 33.2 seconds RetCode: 0 Status: OK