Package: DMCHMM Version: 1.29.0 Command: /home/biocbuild/bbs-3.21-bioc/R/bin/R CMD check --install=check:DMCHMM.install-out.txt --library=/home/biocbuild/bbs-3.21-bioc/R/site-library --timings DMCHMM_1.29.0.tar.gz StartedAt: 2025-02-20 21:37:29 -0500 (Thu, 20 Feb 2025) EndedAt: 2025-02-20 21:44:57 -0500 (Thu, 20 Feb 2025) EllapsedTime: 447.6 seconds RetCode: 0 Status: OK CheckDir: DMCHMM.Rcheck Warnings: 0