Package: DMCHMM Version: 1.29.0 Command: rm -rf DMCHMM.buildbin-libdir && mkdir DMCHMM.buildbin-libdir && /Users/biocbuild/BBS/utils/build-universal.sh DMCHMM_1.29.0.tar.gz /Library/Frameworks/R.framework/Resources/bin/R DMCHMM.buildbin-libdir StartedAt: 2025-02-21 00:28:21 -0500 (Fri, 21 Feb 2025) EndedAt: 2025-02-21 00:29:10 -0500 (Fri, 21 Feb 2025) EllapsedTime: 48.7 seconds RetCode: 0 Status: OK PackageFile: DMCHMM_1.29.0.tgz PackageFileSize: 966.4 KiB