Package: DMCHMM Version: 1.29.0 Command: /Library/Frameworks/R.framework/Resources/bin/R CMD check --install=check:DMCHMM.install-out.txt --library=/Library/Frameworks/R.framework/Resources/library --no-vignettes --timings DMCHMM_1.29.0.tar.gz StartedAt: 2025-02-20 19:01:52 -0500 (Thu, 20 Feb 2025) EndedAt: 2025-02-20 19:04:23 -0500 (Thu, 20 Feb 2025) EllapsedTime: 150.9 seconds RetCode: 0 Status: OK CheckDir: DMCHMM.Rcheck Warnings: 0