Package: DMCHMM Version: 1.29.0 Command: rm -rf DMCHMM.buildbin-libdir && mkdir DMCHMM.buildbin-libdir && /Users/biocbuild/BBS/utils/build-universal.sh DMCHMM_1.29.0.tar.gz /Library/Frameworks/R.framework/Resources/bin/R DMCHMM.buildbin-libdir StartedAt: 2025-02-20 22:17:06 -0500 (Thu, 20 Feb 2025) EndedAt: 2025-02-20 22:17:22 -0500 (Thu, 20 Feb 2025) EllapsedTime: 15.3 seconds RetCode: 0 Status: OK PackageFile: DMCHMM_1.29.0.tgz PackageFileSize: 967.4 KiB