Package: DMCFB Version: 1.21.0 Command: /home/biocbuild/bbs-3.21-bioc/R/bin/R CMD build --keep-empty-dirs --no-resave-data DMCFB StartedAt: 2025-02-20 17:17:06 -0500 (Thu, 20 Feb 2025) EndedAt: 2025-02-20 17:18:34 -0500 (Thu, 20 Feb 2025) EllapsedTime: 88.1 seconds RetCode: 0 Status: OK PackageFile: DMCFB_1.21.0.tar.gz PackageFileSize: 1.052 MiB