Package: DMCFB Version: 1.21.0 Command: /Library/Frameworks/R.framework/Resources/bin/R CMD build --keep-empty-dirs --no-resave-data DMCFB StartedAt: 2025-02-20 16:32:14 -0500 (Thu, 20 Feb 2025) EndedAt: 2025-02-20 16:33:53 -0500 (Thu, 20 Feb 2025) EllapsedTime: 98.4 seconds RetCode: 0 Status: OK PackageFile: DMCFB_1.21.0.tar.gz PackageFileSize: 1.065 MiB