Package: DMCFB Version: 1.21.0 Command: rm -rf DMCFB.buildbin-libdir && mkdir DMCFB.buildbin-libdir && /Users/biocbuild/BBS/utils/build-universal.sh DMCFB_1.21.0.tar.gz /Library/Frameworks/R.framework/Resources/bin/R DMCFB.buildbin-libdir StartedAt: 2025-02-21 00:28:18 -0500 (Fri, 21 Feb 2025) EndedAt: 2025-02-21 00:29:10 -0500 (Fri, 21 Feb 2025) EllapsedTime: 52.2 seconds RetCode: 0 Status: OK PackageFile: DMCFB_1.21.0.tgz PackageFileSize: 1.207 MiB