Package: DIAlignR Version: 2.15.1 Command: rm -rf DIAlignR.buildbin-libdir && mkdir DIAlignR.buildbin-libdir && E:\biocbuild\bbs-3.21-bioc\R\bin\R.exe CMD INSTALL --build --library=DIAlignR.buildbin-libdir DIAlignR_2.15.1.tar.gz StartedAt: 2025-02-20 07:40:00 -0500 (Thu, 20 Feb 2025) EndedAt: 2025-02-20 07:41:56 -0500 (Thu, 20 Feb 2025) EllapsedTime: 115.4 seconds RetCode: 0 Status: OK PackageFile: DIAlignR_2.15.1.zip PackageFileSize: 4.787 MiB