Package: DIAlignR Version: 2.15.1 Command: rm -rf DIAlignR.buildbin-libdir && mkdir DIAlignR.buildbin-libdir && /Users/biocbuild/BBS/utils/build-universal.sh DIAlignR_2.15.1.tar.gz /Library/Frameworks/R.framework/Resources/bin/R DIAlignR.buildbin-libdir StartedAt: 2025-02-20 00:29:19 -0500 (Thu, 20 Feb 2025) EndedAt: 2025-02-20 00:30:35 -0500 (Thu, 20 Feb 2025) EllapsedTime: 75.4 seconds RetCode: 0 Status: OK PackageFile: DIAlignR_2.15.1.tgz PackageFileSize: 4.815 MiB