Package: DIAlignR Version: 2.15.1 Command: /Library/Frameworks/R.framework/Resources/bin/R CMD INSTALL DIAlignR StartedAt: 2025-02-19 15:12:23 -0500 (Wed, 19 Feb 2025) EndedAt: 2025-02-19 15:12:41 -0500 (Wed, 19 Feb 2025) EllapsedTime: 18.3 seconds RetCode: 0 Status: OK