Package: DFplyr Version: 1.1.0 Command: E:\biocbuild\bbs-3.21-bioc\R\bin\R.exe CMD INSTALL DFplyr StartedAt: 2025-02-20 15:25:01 -0500 (Thu, 20 Feb 2025) EndedAt: 2025-02-20 15:25:22 -0500 (Thu, 20 Feb 2025) EllapsedTime: 21.0 seconds RetCode: 0 Status: OK