Package: DFplyr Version: 1.1.0 Command: E:\biocbuild\bbs-3.21-bioc\R\bin\R.exe CMD check --no-multiarch --install=check:DFplyr.install-out.txt --library=E:\biocbuild\bbs-3.21-bioc\R\library --no-vignettes --timings DFplyr_1.1.0.tar.gz StartedAt: 2025-02-21 00:41:32 -0500 (Fri, 21 Feb 2025) EndedAt: 2025-02-21 00:42:47 -0500 (Fri, 21 Feb 2025) EllapsedTime: 75.2 seconds RetCode: 0 Status: OK CheckDir: DFplyr.Rcheck Warnings: 0