Package: DFplyr Version: 1.1.0 Command: /home/biocbuild/bbs-3.21-bioc/R/bin/R CMD INSTALL DFplyr StartedAt: 2025-02-20 15:21:08 -0500 (Thu, 20 Feb 2025) EndedAt: 2025-02-20 15:21:14 -0500 (Thu, 20 Feb 2025) EllapsedTime: 5.9 seconds RetCode: 0 Status: OK