Package: DFplyr Version: 1.1.0 Command: rm -rf DFplyr.buildbin-libdir && mkdir DFplyr.buildbin-libdir && /Users/biocbuild/BBS/utils/build-universal.sh DFplyr_1.1.0.tar.gz /Library/Frameworks/R.framework/Resources/bin/R DFplyr.buildbin-libdir StartedAt: 2025-02-20 22:16:45 -0500 (Thu, 20 Feb 2025) EndedAt: 2025-02-20 22:16:49 -0500 (Thu, 20 Feb 2025) EllapsedTime: 4.1 seconds RetCode: 0 Status: OK PackageFile: DFplyr_1.1.0.tgz PackageFileSize: 550 KiB