Package: DFP Version: 1.65.0 Command: chmod a+r DFP -R && E:\biocbuild\bbs-3.21-bioc\R\bin\R.exe CMD build --keep-empty-dirs --no-resave-data DFP StartedAt: 2025-02-20 18:23:40 -0500 (Thu, 20 Feb 2025) EndedAt: 2025-02-20 18:24:01 -0500 (Thu, 20 Feb 2025) EllapsedTime: 21.1 seconds RetCode: 0 Status: OK PackageFile: DFP_1.65.0.tar.gz PackageFileSize: 355.3 KiB