Package: DFP Version: 1.65.0 Command: /home/biocbuild/bbs-3.21-bioc/R/bin/R CMD INSTALL DFP StartedAt: 2025-02-19 15:12:27 -0500 (Wed, 19 Feb 2025) EndedAt: 2025-02-19 15:12:30 -0500 (Wed, 19 Feb 2025) EllapsedTime: 3.7 seconds RetCode: 0 Status: OK