Package: DFP Version: 1.65.0 Command: /Library/Frameworks/R.framework/Resources/bin/R CMD build --keep-empty-dirs --no-resave-data DFP StartedAt: 2025-02-19 16:30:08 -0500 (Wed, 19 Feb 2025) EndedAt: 2025-02-19 16:30:22 -0500 (Wed, 19 Feb 2025) EllapsedTime: 14.8 seconds RetCode: 0 Status: OK PackageFile: DFP_1.65.0.tar.gz PackageFileSize: 496.6 KiB