Package: DFP Version: 1.65.0 Command: /Library/Frameworks/R.framework/Resources/bin/R CMD check --install=check:DFP.install-out.txt --library=/Library/Frameworks/R.framework/Resources/library --no-vignettes --timings DFP_1.65.0.tar.gz StartedAt: 2025-02-20 18:59:32 -0500 (Thu, 20 Feb 2025) EndedAt: 2025-02-20 18:59:47 -0500 (Thu, 20 Feb 2025) EllapsedTime: 15.2 seconds RetCode: 0 Status: OK CheckDir: DFP.Rcheck Warnings: 0