Package: DExMA Version: 1.15.0 Command: E:\biocbuild\bbs-3.21-bioc\R\bin\R.exe CMD INSTALL DExMA StartedAt: 2025-02-19 16:41:46 -0500 (Wed, 19 Feb 2025) EndedAt: 2025-02-19 16:42:29 -0500 (Wed, 19 Feb 2025) EllapsedTime: 42.4 seconds RetCode: 0 Status: OK