Package: DExMA Version: 1.15.0 Command: E:\biocbuild\bbs-3.21-bioc\R\bin\R.exe CMD check --no-multiarch --install=check:DExMA.install-out.txt --library=E:\biocbuild\bbs-3.21-bioc\R\library --no-vignettes --timings DExMA_1.15.0.tar.gz StartedAt: 2025-02-20 00:29:10 -0500 (Thu, 20 Feb 2025) EndedAt: 2025-02-20 00:33:37 -0500 (Thu, 20 Feb 2025) EllapsedTime: 267.7 seconds RetCode: 0 Status: OK CheckDir: DExMA.Rcheck Warnings: 0