Package: DExMA Version: 1.15.0 Command: chmod a+r DExMA -R && E:\biocbuild\bbs-3.21-bioc\R\bin\R.exe CMD build --keep-empty-dirs --no-resave-data DExMA StartedAt: 2025-02-19 18:22:17 -0500 (Wed, 19 Feb 2025) EndedAt: 2025-02-19 18:23:29 -0500 (Wed, 19 Feb 2025) EllapsedTime: 71.5 seconds RetCode: 0 Status: OK PackageFile: DExMA_1.15.0.tar.gz PackageFileSize: 319.8 KiB