Package: DExMA Version: 1.15.0 Command: /Library/Frameworks/R.framework/Resources/bin/R CMD build --keep-empty-dirs --no-resave-data DExMA StartedAt: 2025-02-19 16:09:06 -0500 (Wed, 19 Feb 2025) EndedAt: 2025-02-19 16:09:30 -0500 (Wed, 19 Feb 2025) EllapsedTime: 24.2 seconds RetCode: 0 Status: OK PackageFile: DExMA_1.15.0.tar.gz PackageFileSize: 316.4 KiB