Package: DExMA Version: 1.15.0 Command: rm -rf DExMA.buildbin-libdir && mkdir DExMA.buildbin-libdir && /Users/biocbuild/BBS/utils/build-universal.sh DExMA_1.15.0.tar.gz /Library/Frameworks/R.framework/Resources/bin/R DExMA.buildbin-libdir StartedAt: 2025-02-19 22:19:50 -0500 (Wed, 19 Feb 2025) EndedAt: 2025-02-19 22:20:05 -0500 (Wed, 19 Feb 2025) EllapsedTime: 15.3 seconds RetCode: 0 Status: OK PackageFile: DExMA_1.15.0.tgz PackageFileSize: 405.5 KiB