Package: DEsubs Version: 1.33.0 Command: rm -rf DEsubs.buildbin-libdir && mkdir DEsubs.buildbin-libdir && /Users/biocbuild/BBS/utils/build-universal.sh DEsubs_1.33.0.tar.gz /Library/Frameworks/R.framework/Resources/bin/R DEsubs.buildbin-libdir StartedAt: 2025-02-20 00:29:09 -0500 (Thu, 20 Feb 2025) EndedAt: 2025-02-20 00:29:48 -0500 (Thu, 20 Feb 2025) EllapsedTime: 39.5 seconds RetCode: 0 Status: OK PackageFile: DEsubs_1.33.0.tgz PackageFileSize: 3.745 MiB